Workbook

Sheet à compléter
A1: Fiche Enseignant spécialisé EI – Organisation des 108 heures
A3: Réseau :
A4: Rattachement administratif :
A5: Ecoles du RA en aide directe :
A6: Ecoles du RA en aide indirecte :
A8: Nom Enseignant Spécialisé :
A9: Prénom Enseignant Spécialisé :
A10: Année scolaire | B10: 2025 -2026 | C10: 2026 -2027 | D10: 2027 -2028 | E10: 2028 -2029
A13: A compléter avant

Sheet 25 26
A1: ='à compléter'!A1 -> Fiche Enseignant spécialisé EI – Organisation des 108 heures
A2: Année scolaire | C2: ='à compléter'!B10 -> 2025 -2026 | D2: Nom | E2: ='à compléter'!B8 -> 0
A3: Réseau | C3: ='à compléter'!B3 -> 0 | D3: Prénom | E3: ='à compléter'!B9 -> 0
A4: Rattachement adm. | C4: ='à compléter'!B4 -> 0 | D4: ='25 26'!C4 -> 0
A5: Ecoles du RA en aide directe : | C5: ='à compléter'!B5 -> 0 | D5: ='25 26'!C5 -> 0 | E5: ='25 26'!D5 -> 0 | F5: ='25 26'!E5 -> 0 | G5: ='25 26'!F5 -> 0
A6: Ecoles du RA en aide indirecte | C6: ='à compléter'!B6 -> 0 | D6: ='25 26'!C6 -> 0 | E6: ='25 26'!D6 -> 0 | F6: ='25 26'!E6 -> 0 | G6: ='25 26'!F6 -> 0
A8: Rencontres institutionnelles DDEC | F8: Dates | G8: Heures
A9: Thématiques | C9: infos- travail collaboratif EI | F9: 45924 | G9: 3
C10: infos- travail collaboratif EI | F10: 46197 | G10: 3
F11: Total | G11: =SUM(G9:G10) -> 6
A14: Groupes de travail EI par secteurs (si hors présence élève) et formation | F14: Dates | G14: Heures
A15: Thématiques
F21: Total | G21: =SUM(G15:G20) -> 0
A25: Travail en réseau (Préparation groupe de coordination, animations (si hors heures présence élèves) | F25: Dates | G25: Heures
A30: Réunion(s) groupe de coordination
A31: Réseau
A32: Réseau
F37: Total | G37: =SUM(G26:G36) -> 0
A40: Accompagnement et travail avec équipes d'école (concertations, projet d'école, analyse des éval. Nationales avec l'équipe…) | F40: Dates | G40: Heures
A42: Nom de l'école | C42: Thémtiques
F50: Total | G50: =SUM(G41:G49) -> 0
A53: Aide à la mise en place des PPRE ; point sur les PAP, MOPPS, LPI… | F53: Dates | G53: Heures
A55: Nom de l'école | C55: Thémtiques
F63: Total | G63: =SUM(G56:G62) -> 0
A66: Conseils de cycle + synthèses hors présence élèves... | F66: Dates | G66: Heures
A68: Nom de l'école | C68: Thémtiques
F76: Total | G76: =SUM(G67:G75) -> 0
A79: Rencontres avec les parents, équipes éducatives, ESS… | F79: Dates | G79: Heures
A81: Nom de l'école | C81: Thémtiques
F89: Total | G89: =SUM(G82:G88) -> 0
A92: Lien avec les partenaires (hors 24h présence élèves) | F92: Dates | G92: Heures
A94: Nom de l'école | C94: Thémtiques
F102: Total | G102: =SUM(G95:G101) -> 0
C104: Total 108 h | D104: =G11+G21+G37+G50+G63+G76+G89+G102 -> 6
A106: Visa du CE de poste de rattachement | F106: Visa du CE coordinateur de réseau
A111: Circulaire n° 2014-107 du 18-8-2014
A112: Les cent-huit heures annuelles des maîtres E et G sont consacrées :
A113: aux temps de concertation ;
A114: aux travaux en équipes pédagogiques (y compris le travail de liaison et de coordination permettant le suivi des élèves de classes de 6e ayant rencontré des difficultés à l'école élémentaire et les temps d'échange consacrés à la situation d'un élève en difficulté) ;
A115: - aux relations avec les parents, avec les autres professionnels du pôle ressource de la circonscription et, le cas échéant, avec les professionnels extérieurs à l'école qui connaissent l'élève ;
A116: à la participation aux conseils d'école et à la contribution aux travaux du conseil école-collège ;
A117: aux temps de concertation et de synthèse propre au travail collaboratif des membres du réseau, ainsi que la contribution au pôle ressource de la circonscription.
A118: Formation :18h
A119: Les enseignants spécialisés n'assurent pas d'activités pédagogiques complémentaires. Ils peuvent participer aux animations et formations pédagogiques de la circonscription, mentionnées au 3 de l'article 2 du décret n° 2008-775 du 30 juillet 2008. Il convient également de prévoir, au plan départemental, académique ou national, des formations spécifiques dans le champ de l'aide spécialisée.

Sheet 26 27
A1: ='à compléter'!A1 -> Fiche Enseignant spécialisé EI – Organisation des 108 heures
A2: Année scolaire | C2: ='à compléter'!C10 -> 2026 -2027 | D2: Nom | E2: ='à compléter'!B8 -> 0
A3: Réseau | C3: ='à compléter'!B3 -> 0 | D3: Prénom | E3: ='à compléter'!B9 -> 0
A4: Rattachement adm. | C4: ='à compléter'!B4 -> 0 | D4: ='25 26'!C4 -> 0
A5: Ecoles du RA en aide directe : | C5: ='à compléter'!B5 -> 0 | D5: ='25 26'!C5 -> 0 | E5: ='25 26'!D5 -> 0 | F5: ='25 26'!E5 -> 0 | G5: ='25 26'!F5 -> 0
A6: Ecoles du RA en aide indirecte | C6: ='à compléter'!B6 -> 0 | D6: ='25 26'!C6 -> 0 | E6: ='25 26'!D6 -> 0 | F6: ='25 26'!E6 -> 0 | G6: ='25 26'!F6 -> 0
A8: Rencontres institutionnelles DDEC | F8: Dates | G8: Heures
A9: Thématiques
F11: Total | G11: =SUM(G9:G10) -> 0
A14: Groupes de travail EI par secteurs (si hors présence élève) et formation | F14: Dates | G14: Heures
A15: Thématiques
F21: Total | G21: =SUM(G15:G20) -> 0
A25: Travail en réseau (Préparation groupe de coordination, animations (si hors heures présence élèves) | F25: Dates | G25: Heures
A30: Réunion(s) groupe de coordination
A31: Réseau
A32: Réseau
F37: Total | G37: =SUM(G26:G36) -> 0
A40: Accompagnement et travail avec équipes d'école (concertations, projet d'école, analyse des éval. Nationales avec l'équipe…) | F40: Dates | G40: Heures
A42: Nom de l'école | C42: Thémtiques
F50: Total | G50: =SUM(G41:G49) -> 0
A53: Aide à la mise en place des PPRE ; point sur les PAP, MOPPS, LPI… | F53: Dates | G53: Heures
A55: Nom de l'école | C55: Thémtiques
F63: Total | G63: =SUM(G56:G62) -> 0
A66: Conseils de cycle + synthèses hors présence élèves... | F66: Dates | G66: Heures
A68: Nom de l'école | C68: Thémtiques
F76: Total | G76: =SUM(G67:G75) -> 0
A79: Rencontres avec les parents, équipes éducatives, ESS… | F79: Dates | G79: Heures
A81: Nom de l'école | C81: Thémtiques
F89: Total | G89: =SUM(G82:G88) -> 0
A92: Lien avec les partenaires (hors 24h présence élèves) | F92: Dates | G92: Heures
A94: Nom de l'école | C94: Thémtiques
F102: Total | G102: =SUM(G95:G101) -> 0
C104: Total 108 h | D104: =G11+G21+G37+G50+G63+G76+G89+G102 -> 0
A106: Visa du CE de poste de rattachement | F106: Visa du CE coordinateur de réseau
A111: Circulaire n° 2014-107 du 18-8-2014
A112: Les cent-huit heures annuelles des maîtres E et G sont consacrées :
A113: aux temps de concertation ;
A114: aux travaux en équipes pédagogiques (y compris le travail de liaison et de coordination permettant le suivi des élèves de classes de 6e ayant rencontré des difficultés à l'école élémentaire et les temps d'échange consacrés à la situation d'un élève en difficulté) ;
A115: - aux relations avec les parents, avec les autres professionnels du pôle ressource de la circonscription et, le cas échéant, avec les professionnels extérieurs à l'école qui connaissent l'élève ;
A116: à la participation aux conseils d'école et à la contribution aux travaux du conseil école-collège ;
A117: aux temps de concertation et de synthèse propre au travail collaboratif des membres du réseau, ainsi que la contribution au pôle ressource de la circonscription.
A118: Formation :18h
A119: Les enseignants spécialisés n'assurent pas d'activités pédagogiques complémentaires. Ils peuvent participer aux animations et formations pédagogiques de la circonscription, mentionnées au 3 de l'article 2 du décret n° 2008-775 du 30 juillet 2008. Il convient également de prévoir, au plan départemental, académique ou national, des formations spécifiques dans le champ de l'aide spécialisée.

Sheet 27 28
A1: ='à compléter'!A1 -> Fiche Enseignant spécialisé EI – Organisation des 108 heures
A2: Année scolaire | C2: ='à compléter'!D10 -> 2027 -2028 | D2: Nom | E2: ='à compléter'!B8 -> 0
A3: Réseau | C3: ='à compléter'!B3 -> 0 | D3: Prénom | E3: ='à compléter'!B9 -> 0
A4: Rattachement adm. | C4: ='à compléter'!B4 -> 0 | D4: ='25 26'!C4 -> 0
A5: Ecoles du RA en aide directe : | C5: ='à compléter'!B5 -> 0 | D5: ='25 26'!C5 -> 0 | E5: ='25 26'!D5 -> 0 | F5: ='25 26'!E5 -> 0 | G5: ='25 26'!F5 -> 0
A6: Ecoles du RA en aide indirecte | C6: ='à compléter'!B6 -> 0 | D6: ='25 26'!C6 -> 0 | E6: ='25 26'!D6 -> 0 | F6: ='25 26'!E6 -> 0 | G6: ='25 26'!F6 -> 0
A8: Rencontres institutionnelles DDEC | F8: Dates | G8: Heures
A9: Thématiques
F11: Total | G11: =SUM(G9:G10) -> 0
A14: Groupes de travail EI par secteurs (si hors présence élève) et formation | F14: Dates | G14: Heures
A15: Thématiques
F21: Total | G21: =SUM(G15:G20) -> 0
A25: Travail en réseau (Préparation groupe de coordination, animations (si hors heures présence élèves) | F25: Dates | G25: Heures
A30: Réunion(s) groupe de coordination
A31: Réseau
A32: Réseau
F37: Total | G37: =SUM(G26:G36) -> 0
A40: Accompagnement et travail avec équipes d'école (concertations, projet d'école, analyse des éval. Nationales avec l'équipe…) | F40: Dates | G40: Heures
A42: Nom de l'école | C42: Thémtiques
F50: Total | G50: =SUM(G41:G49) -> 0
A53: Aide à la mise en place des PPRE ; point sur les PAP, MOPPS, LPI… | F53: Dates | G53: Heures
A55: Nom de l'école | C55: Thémtiques
F63: Total | G63: =SUM(G56:G62) -> 0
A66: Conseils de cycle + synthèses hors présence élèves... | F66: Dates | G66: Heures
A68: Nom de l'école | C68: Thémtiques
F76: Total | G76: =SUM(G67:G75) -> 0
A79: Rencontres avec les parents, équipes éducatives, ESS… | F79: Dates | G79: Heures
A81: Nom de l'école | C81: Thémtiques
F89: Total | G89: =SUM(G82:G88) -> 0
A92: Lien avec les partenaires (hors 24h présence élèves) | F92: Dates | G92: Heures
A94: Nom de l'école | C94: Thémtiques
F102: Total | G102: =SUM(G95:G101) -> 0
C104: Total 108 h | D104: =G11+G21+G37+G50+G63+G76+G89+G102 -> 0
A106: Visa du CE de poste de rattachement | F106: Visa du CE coordinateur de réseau
A111: Circulaire n° 2014-107 du 18-8-2014
A112: Les cent-huit heures annuelles des maîtres E et G sont consacrées :
A113: aux temps de concertation ;
A114: aux travaux en équipes pédagogiques (y compris le travail de liaison et de coordination permettant le suivi des élèves de classes de 6e ayant rencontré des difficultés à l'école élémentaire et les temps d'échange consacrés à la situation d'un élève en difficulté) ;
A115: - aux relations avec les parents, avec les autres professionnels du pôle ressource de la circonscription et, le cas échéant, avec les professionnels extérieurs à l'école qui connaissent l'élève ;
A116: à la participation aux conseils d'école et à la contribution aux travaux du conseil école-collège ;
A117: aux temps de concertation et de synthèse propre au travail collaboratif des membres du réseau, ainsi que la contribution au pôle ressource de la circonscription.
A118: Formation :18h
A119: Les enseignants spécialisés n'assurent pas d'activités pédagogiques complémentaires. Ils peuvent participer aux animations et formations pédagogiques de la circonscription, mentionnées au 3 de l'article 2 du décret n° 2008-775 du 30 juillet 2008. Il convient également de prévoir, au plan départemental, académique ou national, des formations spécifiques dans le champ de l'aide spécialisée.

Sheet 28 29
A1: ='à compléter'!A1 -> Fiche Enseignant spécialisé EI – Organisation des 108 heures
A2: Année scolaire | C2: ='à compléter'!E10 -> 2028 -2029 | D2: Nom | E2: ='à compléter'!B8 -> 0
A3: Réseau | C3: ='à compléter'!B3 -> 0 | D3: Prénom | E3: ='à compléter'!B9 -> 0
A4: Rattachement adm. | C4: ='à compléter'!B4 -> 0 | D4: ='25 26'!C4 -> 0
A5: Ecoles du RA en aide directe : | C5: ='à compléter'!B5 -> 0 | D5: ='25 26'!C5 -> 0 | E5: ='25 26'!D5 -> 0 | F5: ='25 26'!E5 -> 0 | G5: ='25 26'!F5 -> 0
A6: Ecoles du RA en aide indirecte | C6: ='à compléter'!B6 -> 0 | D6: ='25 26'!C6 -> 0 | E6: ='25 26'!D6 -> 0 | F6: ='25 26'!E6 -> 0 | G6: ='25 26'!F6 -> 0
A8: Rencontres institutionnelles DDEC | F8: Dates | G8: Heures
A9: Thématiques
F11: Total | G11: =SUM(G9:G10) -> 0
A14: Groupes de travail EI par secteurs (si hors présence élève) et formation | F14: Dates | G14: Heures
A15: Thématiques
F21: Total | G21: =SUM(G15:G20) -> 0
A25: Travail en réseau (Préparation groupe de coordination, animations (si hors heures présence élèves) | F25: Dates | G25: Heures
A30: Réunion(s) groupe de coordination
A31: Réseau
A32: Réseau
F37: Total | G37: =SUM(G26:G36) -> 0
A40: Accompagnement et travail avec équipes d'école (concertations, projet d'école, analyse des éval. Nationales avec l'équipe…) | F40: Dates | G40: Heures
A42: Nom de l'école | C42: Thémtiques
F50: Total | G50: =SUM(G41:G49) -> 0
A53: Aide à la mise en place des PPRE ; point sur les PAP, MOPPS, LPI… | F53: Dates | G53: Heures
A55: Nom de l'école | C55: Thémtiques
F63: Total | G63: =SUM(G56:G62) -> 0
A66: Conseils de cycle + synthèses hors présence élèves... | F66: Dates | G66: Heures
A68: Nom de l'école | C68: Thémtiques
F76: Total | G76: =SUM(G67:G75) -> 0
A79: Rencontres avec les parents, équipes éducatives, ESS… | F79: Dates | G79: Heures
A81: Nom de l'école | C81: Thémtiques
F89: Total | G89: =SUM(G82:G88) -> 0
A92: Lien avec les partenaires (hors 24h présence élèves) | F92: Dates | G92: Heures
A94: Nom de l'école | C94: Thémtiques
F102: Total | G102: =SUM(G95:G101) -> 0
C104: Total 108 h | D104: =G11+G21+G37+G50+G63+G76+G89+G102 -> 0
A106: Visa du CE de poste de rattachement | F106: Visa du CE coordinateur de réseau
A111: Circulaire n° 2014-107 du 18-8-2014
A112: Les cent-huit heures annuelles des maîtres E et G sont consacrées :
A113: aux temps de concertation ;
A114: aux travaux en équipes pédagogiques (y compris le travail de liaison et de coordination permettant le suivi des élèves de classes de 6e ayant rencontré des difficultés à l'école élémentaire et les temps d'échange consacrés à la situation d'un élève en difficulté) ;
A115: - aux relations avec les parents, avec les autres professionnels du pôle ressource de la circonscription et, le cas échéant, avec les professionnels extérieurs à l'école qui connaissent l'élève ;
A116: à la participation aux conseils d'école et à la contribution aux travaux du conseil école-collège ;
A117: aux temps de concertation et de synthèse propre au travail collaboratif des membres du réseau, ainsi que la contribution au pôle ressource de la circonscription.
A118: Formation :18h
A119: Les enseignants spécialisés n'assurent pas d'activités pédagogiques complémentaires. Ils peuvent participer aux animations et formations pédagogiques de la circonscription, mentionnées au 3 de l'article 2 du décret n° 2008-775 du 30 juillet 2008. Il convient également de prévoir, au plan départemental, académique ou national, des formations spécifiques dans le champ de l'aide spécialisée.
