Workbook
Name OLE_LINK1: Préambule!$J$53

Sheet Préambule

Sheet Tutoriel

Sheet Récapitulatif
B1: Ecole : | D1: Commune : | G1: Circonscription: | H1: Segré
B2: Prénom | C2: NOM | D2: ORS dues | E2: Heures programmées pour l'année scolaire en cours | F2: Conseils d'établissement | G2: Travaux en équipe pédagogique, relations avec les parents et suivi PPS | H2: Animations pédagogiques | I2: Activités Pédagogiques Complémentaires (APC)
A3: 1. | D3: ='Enseignant 1 '!D139 -> 0 | E3: ='Enseignant 1 '!E139 -> 0 | F3: ='Enseignant 1 '!B135 -> 0 | G3: ='Enseignant 1 '!C135 -> 0 | H3: ='Enseignant 1 '!E135 -> 0 | I3: ='Enseignant 1 '!F135 -> 0
A4: 2. | D4: ='Enseignant 2'!D139 -> 0 | E4: ='Enseignant 2'!E139 -> 0 | F4: ='Enseignant 2'!B135 -> 0 | G4: ='Enseignant 2'!C135 -> 0 | H4: ='Enseignant 2'!E135 -> 0 | I4: ='Enseignant 2'!F135 -> 0
A5: 3. | D5: ='Enseignant 3'!D139 -> 0 | E5: ='Enseignant 3'!E139 -> 0 | F5: ='Enseignant 3'!B135 -> 0 | G5: ='Enseignant 3'!C135 -> 0 | H5: ='Enseignant 3'!E135 -> 0 | I5: ='Enseignant 3'!F135 -> 0
A6: 4. | D6: ='Enseignant 4'!D139 -> 0 | E6: ='Enseignant 4'!E139 -> 0 | F6: ='Enseignant 4'!B135 -> 0 | G6: ='Enseignant 4'!C135 -> 0 | H6: ='Enseignant 4'!E135 -> 0 | I6: ='Enseignant 4'!F135 -> 0
A7: 5. | D7: ='Enseignant 5'!D139 -> 0 | E7: ='Enseignant 5'!E139 -> 0 | F7: ='Enseignant 5'!B135 -> 0 | G7: ='Enseignant 5'!C135 -> 0 | H7: ='Enseignant 5'!E135 -> 0 | I7: ='Enseignant 5'!F135 -> 0
A8: 6. | D8: ='Enseignant 6'!D139 -> 0 | E8: ='Enseignant 6'!E139 -> 0 | F8: ='Enseignant 6'!B135 -> 0 | G8: ='Enseignant 6'!C135 -> 0 | H8: ='Enseignant 6'!E135 -> 0 | I8: ='Enseignant 6'!F135 -> 0
A9: 7. | D9: ='Enseignant 7'!D139 -> 0 | E9: ='Enseignant 7'!E139 -> 0 | F9: ='Enseignant 7'!B135 -> 0 | G9: ='Enseignant 7'!C135 -> 0 | H9: ='Enseignant 7'!E135 -> 0 | I9: ='Enseignant 7'!F135 -> 0
A10: 8. | D10: ='Enseignant 8'!D139 -> 0 | E10: ='Enseignant 8'!E139 -> 0 | F10: ='Enseignant 8'!B135 -> 0 | G10: ='Enseignant 8'!C135 -> 0 | H10: ='Enseignant 8'!E135 -> 0 | I10: ='Enseignant 8'!F135 -> 0
A11: 9. | D11: ='Enseignant 9'!D139 -> 0 | E11: ='Enseignant 9'!E139 -> 0 | F11: ='Enseignant 9'!B135 -> 0 | G11: ='Enseignant 9'!C135 -> 0 | H11: ='Enseignant 9'!E135 -> 0 | I11: ='Enseignant 9'!F135 -> 0
A12: 10. | D12: ='Enseignant 10'!D139 -> 0 | E12: ='Enseignant 10'!E139 -> 0 | F12: ='Enseignant 10'!B135 -> 0 | G12: ='Enseignant 10'!C135 -> 0 | H12: ='Enseignant 10'!E135 -> 0 | I12: ='Enseignant 10'!F135 -> 0
A13: 11. | D13: ='Enseignant 11'!D139 -> 0 | E13: ='Enseignant 11'!E139 -> 0 | F13: ='Enseignant 11'!B135 -> 0 | G13: ='Enseignant 11'!C135 -> 0 | H13: ='Enseignant 11'!E135 -> 0 | I13: ='Enseignant 11'!F135 -> 0
A14: 12. | D14: ='Enseignant 12'!D139 -> 0 | E14: ='Enseignant 12'!E139 -> 0 | F14: ='Enseignant 12'!B135 -> 0 | G14: ='Enseignant 12'!C135 -> 0 | H14: ='Enseignant 12'!E135 -> 0 | I14: ='Enseignant 12'!F135 -> 0
A15: 13. | D15: ='Enseignant 13'!D139 -> 0 | E15: ='Enseignant 13'!E139 -> 0 | F15: ='Enseignant 13'!B135 -> 0 | G15: ='Enseignant 13'!C135 -> 0 | H15: ='Enseignant 13'!E135 -> 0 | I15: ='Enseignant 13'!F135 -> 0
A16: 14. | D16: ='Enseignant 14'!D139 -> 0 | E16: ='Enseignant 14'!E139 -> 0 | F16: ='Enseignant 14'!B135 -> 0 | G16: ='Enseignant 14'!C135 -> 0 | H16: ='Enseignant 14'!E135 -> 0 | I16: ='Enseignant 14'!F135 -> 0
A17: 15. | D17: ='Enseignant 15'!D139 -> 0 | E17: ='Enseignant 15'!E139 -> 0 | F17: ='Enseignant 15'!B135 -> 0 | G17: ='Enseignant 15'!C135 -> 0 | H17: ='Enseignant 15'!E135 -> 0 | I17: ='Enseignant 15'!F135 -> 0
A18: 16. | D18: ='Enseignant 16'!D139 -> 0 | E18: ='Enseignant 16'!E139 -> 0 | F18: ='Enseignant 16'!B135 -> 0 | G18: ='Enseignant 16'!C135 -> 0 | H18: ='Enseignant 16'!E135 -> 0 | I18: ='Enseignant 16'!F135 -> 0
A19: 17. | D19: ='Enseignant 17'!D139 -> 0 | E19: ='Enseignant 17'!E139 -> 0 | F19: ='Enseignant 17'!B135 -> 0 | G19: ='Enseignant 17'!C135 -> 0 | H19: ='Enseignant 17'!E135 -> 0 | I19: ='Enseignant 17'!F135 -> 0
A20: 18. | D20: ='Enseignant 18'!D139 -> 0 | E20: ='Enseignant 18'!E139 -> 0 | F20: ='Enseignant 18'!B135 -> 0 | G20: ='Enseignant 18'!C135 -> 0 | H20: ='Enseignant 18'!E135 -> 0 | I20: ='Enseignant 18'!F135 -> 0
B23: ANNEE SCOLAIRE: | D23: 2025-2026

Sheet Enseignant 1 
H2: 1
A3: Prénom | B3: =Récapitulatif!B3 -> 0 | C3: Nom | D3: =Récapitulatif!C3 -> 0 | G3: Enseignant | H3: 0.8
A4: de l'enseignant | H4: 0.75
H5: 0.5
H6: 0.33
A7: Ecole | B7: =Récapitulatif!C1 -> 0 | C7: Commune : | D7: =Récapitulatif!E1 -> 0 | H7: 0.25
G8: Chef d'établissement 1 à 2 classes
A9: Circonscription | C9: =Récapitulatif!H1 -> Segré | G9: Chef d'établissement 3 à 4 classes
G10: Chef d'établissement 5 et +
B11: 1. CONSEILS D'ETABLISSEMENT (6 heures)
C14: Date | D14: Horaires | E14: Durée
G16: =Récapitulatif!D23 -> 2025-2026
C18: TOTAL | E18: =SUM(E15:E17) -> 0
B20: 2. TRAVAUX EN EQUIPES PÉDAGOGIQUES, RELATIONS AVEC LES PARENTS ET SUIVI DES PPS (48h)
B22: Période 1 | F22: Période 2
B24: Date | C24: Objet | D24: Durée | F24: Date | G24: Objet | H24: Durée
B35: TOTAL | D35: =SUM(D25:D34) -> 0 | F35: TOTAL | H35: =SUM(H25:H34) -> 0
B39: Période 3 | F39: Période 4
B41: Date | C41: Objet | D41: Durée | F41: Date | G41: Objet | H41: Durée
B52: TOTAL | D52: =SUM(D42:D51) -> 0 | F52: TOTAL | H52: =SUM(H42:H51) -> 0
B54: Période 5
B56: Date | C56: Objet | D56: Durée
B67: TOTAL | D67: =SUM(D57:D66) -> 0
B70: 3. ANIMATIONS PÉDAGOGIQUES ET ACTIONS DE FORMATION CONTINUE (18h)
C72: Intitulé | E72: Date | F72: Durée
C82: TOTAL | F82: =SUM(F73:F81) -> 0
B88: 4. ACTIVITES PEDAGOGIQUES COMPLEMENTAIRES APC (36h)
B90: Période 1 | E90: Période 2 | H90: Période 3
B92: Date | C92: Durée | E92: Date | F92: Durée | H92: Date | I92: Durée
B105: TOTAL | C105: =SUM(C93:C104) -> 0 | E105: TOTAL | F105: =SUM(F93:F104) -> 0 | H105: TOTAL | I105: =SUM(I93:I104) -> 0
B111: Période 4 | E111: Période 5
B113: Date | C113: Durée | E113: Date | F113: Durée
B126: TOTAL | C126: =SUM(C114:C125) -> 0 | E126: TOTAL | F126: =SUM(F114:F125) -> 0
B132: 6. RÉCAPITULATIF
B134: Conseils d'établissement | C134: Travaux en équipe pédagogique, relations avec les parents et suivi du PPS | E134: Animations pédagogiques et actions de formation continue | F134: Activités Pédagogiques Complémentaires APC | H134: TOTAL
B135: =E18 -> 0 | C135: =SUM(D35+H35+D52+H52+D67) -> 0 | E135: =SUM(F82) -> 0 | F135: =SUM(C105+F105+I105+C126+F126) -> 0 | H135: =SUM(B135:G135) -> 0
D138: ORS | E138: Heures programmées pour l'année scolaire en cours | F138: état
D139: =SUM(I2:I14) -> 0 | E139: =SUM(B135:F135) -> 0 | F139: =IF(D139<=E139,"ORS à jour","Revoir ORS") -> ORS à jour
B141: =B3 -> 0 | E141: =D3 -> 0

Sheet Enseignant 2
H2: 1
A3: Prénom | B3: =Récapitulatif!B4 -> 0 | C3: Nom | D3: =Récapitulatif!C4 -> 0 | G3: Enseignant | H3: 0.8
A4: de l'enseignant | H4: 0.75
H5: 0.5
H6: 0.33
A7: Ecole | B7: =Récapitulatif!C1 -> 0 | C7: Commune : | D7: =Récapitulatif!E1 -> 0 | H7: 0.25
G8: Chef d'établissement 1 à 2 classes
A9: Circonscription | C9: =Récapitulatif!H1 -> Segré | G9: Chef d'établissement 3 à 4 classes
G10: Chef d'établissement 5 et +
B11: 1. CONSEILS D'ETABLISSEMENT (6 heures)
C14: Date | D14: Horaires | E14: Durée
G16: =Récapitulatif!D23 -> 2025-2026
C18: TOTAL | E18: =SUM(E15:E17) -> 0
B20: 2. TRAVAUX EN EQUIPES PÉDAGOGIQUES, RELATIONS AVEC LES PARENTS ET SUIVI DES PPS (48h)
B22: Période 1 | F22: Période 2
B24: Date | C24: Objet | D24: Durée | F24: Date | G24: Objet | H24: Durée
B35: TOTAL | D35: =SUM(D25:D34) -> 0 | F35: TOTAL | H35: =SUM(H25:H34) -> 0
B39: Période 3 | F39: Période 4
B41: Date | C41: Objet | D41: Durée | F41: Date | G41: Objet | H41: Durée
B52: TOTAL | D52: =SUM(D42:D51) -> 0 | F52: TOTAL | H52: =SUM(H42:H51) -> 0
B54: Période 5
B56: Date | C56: Objet | D56: Durée
B67: TOTAL | D67: =SUM(D57:D66) -> 0
B70: 3. ANIMATIONS PÉDAGOGIQUES ET ACTIONS DE FORMATION CONTINUE (18h)
C72: Intitulé | E72: Date | F72: Durée
C82: TOTAL | F82: =SUM(F73:F81) -> 0
B88: 4. ACTIVITES PEDAGOGIQUES COMPLEMENTAIRES APC (36h)
B90: Période 1 | E90: Période 2 | H90: Période 3
B92: Date | C92: Durée | E92: Date | F92: Durée | H92: Date | I92: Durée
B105: TOTAL | C105: =SUM(C93:C104) -> 0 | E105: TOTAL | F105: =SUM(F93:F104) -> 0 | H105: TOTAL | I105: =SUM(I93:I104) -> 0
B111: Période 4 | E111: Période 5
B113: Date | C113: Durée | E113: Date | F113: Durée
B126: TOTAL | C126: =SUM(C114:C125) -> 0 | E126: TOTAL | F126: =SUM(F114:F125) -> 0
B132: 6. RÉCAPITULATIF
B134: Conseils d'établissement | C134: Travaux en équipe pédagogique, relations avec les parents et suivi du PPS | E134: Animations pédagogiques et actions de formation continue | F134: Activités Pédagogiques Complémentaires APC | H134: TOTAL
B135: =E18 -> 0 | C135: =SUM(D35+H35+D52+H52+D67) -> 0 | E135: =SUM(F82) -> 0 | F135: =SUM(C105+F105+I105+C126+F126) -> 0 | H135: =SUM(B135:G135) -> 0
D138: ORS | E138: Heures programmées pour l'année scolaire en cours | F138: état
D139: =SUM(I2:I14) -> 0 | E139: =SUM(B135:F135) -> 0 | F139: =IF(D139<=E139,"ORS à jour","Revoir ORS") -> ORS à jour
B141: =B3 -> 0 | E141: =D3 -> 0

Sheet Enseignant 3
H2: 1
A3: Prénom | B3: =Récapitulatif!B5 -> 0 | C3: Nom | D3: =Récapitulatif!C5 -> 0 | G3: Enseignant | H3: 0.8
A4: de l'enseignant | H4: 0.75
H5: 0.5
H6: 0.33
A7: Ecole | B7: =Récapitulatif!C1 -> 0 | C7: Commune : | D7: =Récapitulatif!E1 -> 0 | H7: 0.25
G8: Chef d'établissement 1 à 2 classes
A9: Circonscription | C9: =Récapitulatif!H1 -> Segré | G9: Chef d'établissement 3 à 4 classes
G10: Chef d'établissement 5 et +
B11: 1. CONSEILS D'ETABLISSEMENT (6 heures)
C14: Date | D14: Horaires | E14: Durée
G16: =Récapitulatif!D23 -> 2025-2026
C18: TOTAL | E18: =SUM(E15:E17) -> 0
B20: 2. TRAVAUX EN EQUIPES PÉDAGOGIQUES, RELATIONS AVEC LES PARENTS ET SUIVI DES PPS (48h)
B22: Période 1 | F22: Période 2
B24: Date | C24: Objet | D24: Durée | F24: Date | G24: Objet | H24: Durée
B35: TOTAL | D35: =SUM(D25:D34) -> 0 | F35: TOTAL | H35: =SUM(H25:H34) -> 0
B39: Période 3 | F39: Période 4
B41: Date | C41: Objet | D41: Durée | F41: Date | G41: Objet | H41: Durée
B52: TOTAL | D52: =SUM(D42:D51) -> 0 | F52: TOTAL | H52: =SUM(H42:H51) -> 0
B54: Période 5
B56: Date | C56: Objet | D56: Durée
B67: TOTAL | D67: =SUM(D57:D66) -> 0
B70: 3. ANIMATIONS PÉDAGOGIQUES ET ACTIONS DE FORMATION CONTINUE (18h)
C72: Intitulé | E72: Date | F72: Durée
C82: TOTAL | F82: =SUM(F73:F81) -> 0
B88: 4. ACTIVITES PEDAGOGIQUES COMPLEMENTAIRES APC (36h)
B90: Période 1 | E90: Période 2 | H90: Période 3
B92: Date | C92: Durée | E92: Date | F92: Durée | H92: Date | I92: Durée
B105: TOTAL | C105: =SUM(C93:C104) -> 0 | E105: TOTAL | F105: =SUM(F93:F104) -> 0 | H105: TOTAL | I105: =SUM(I93:I104) -> 0
B111: Période 4 | E111: Période 5
B113: Date | C113: Durée | E113: Date | F113: Durée
B126: TOTAL | C126: =SUM(C114:C125) -> 0 | E126: TOTAL | F126: =SUM(F114:F125) -> 0
B132: 6. RÉCAPITULATIF
B134: Conseils d'établissement | C134: Travaux en équipe pédagogique, relations avec les parents et suivi du PPS | E134: Animations pédagogiques et actions de formation continue | F134: Activités Pédagogiques Complémentaires APC | H134: TOTAL
B135: =E18 -> 0 | C135: =SUM(D35+H35+D52+H52+D67) -> 0 | E135: =SUM(F82) -> 0 | F135: =SUM(C105+F105+I105+C126+F126) -> 0 | H135: =SUM(B135:G135) -> 0
D138: ORS | E138: Heures programmées pour l'année scolaire en cours | F138: état
D139: =SUM(I2:I14) -> 0 | E139: =SUM(B135:F135) -> 0 | F139: =IF(D139<=E139,"ORS à jour","Revoir ORS") -> ORS à jour
B141: =B3 -> 0 | E141: =D3 -> 0

Sheet Enseignant 4
H2: 1
A3: Prénom | B3: =Récapitulatif!B6 -> 0 | C3: Nom | D3: =Récapitulatif!C6 -> 0 | G3: Enseignant | H3: 0.8
A4: de l'enseignant | H4: 0.75
H5: 0.5
H6: 0.33
A7: Ecole | B7: =Récapitulatif!C1 -> 0 | C7: Commune : | D7: =Récapitulatif!E1 -> 0 | H7: 0.25
G8: Chef d'établissement 1 à 2 classes
A9: Circonscription | C9: =Récapitulatif!H1 -> Segré | G9: Chef d'établissement 3 à 4 classes
G10: Chef d'établissement 5 et +
B11: 1. CONSEILS D'ETABLISSEMENT (6 heures)
C14: Date | D14: Horaires | E14: Durée
G16: =Récapitulatif!D23 -> 2025-2026
C18: TOTAL | E18: =SUM(E15:E17) -> 0
B20: 2. TRAVAUX EN EQUIPES PÉDAGOGIQUES, RELATIONS AVEC LES PARENTS ET SUIVI DES PPS (48h)
B22: Période 1 | F22: Période 2
B24: Date | C24: Objet | D24: Durée | F24: Date | G24: Objet | H24: Durée
B35: TOTAL | D35: =SUM(D25:D34) -> 0 | F35: TOTAL | H35: =SUM(H25:H34) -> 0
B39: Période 3 | F39: Période 4
B41: Date | C41: Objet | D41: Durée | F41: Date | G41: Objet | H41: Durée
B52: TOTAL | D52: =SUM(D42:D51) -> 0 | F52: TOTAL | H52: =SUM(H42:H51) -> 0
B54: Période 5
B56: Date | C56: Objet | D56: Durée
B67: TOTAL | D67: =SUM(D57:D66) -> 0
B70: 3. ANIMATIONS PÉDAGOGIQUES ET ACTIONS DE FORMATION CONTINUE (18h)
C72: Intitulé | E72: Date | F72: Durée
C82: TOTAL | F82: =SUM(F73:F81) -> 0
B88: 4. ACTIVITES PEDAGOGIQUES COMPLEMENTAIRES APC (36h)
B90: Période 1 | E90: Période 2 | H90: Période 3
B92: Date | C92: Durée | E92: Date | F92: Durée | H92: Date | I92: Durée
B105: TOTAL | C105: =SUM(C93:C104) -> 0 | E105: TOTAL | F105: =SUM(F93:F104) -> 0 | H105: TOTAL | I105: =SUM(I93:I104) -> 0
B111: Période 4 | E111: Période 5
B113: Date | C113: Durée | E113: Date | F113: Durée
B126: TOTAL | C126: =SUM(C114:C125) -> 0 | E126: TOTAL | F126: =SUM(F114:F125) -> 0
B132: 6. RÉCAPITULATIF
B134: Conseils d'établissement | C134: Travaux en équipe pédagogique, relations avec les parents et suivi du PPS | E134: Animations pédagogiques et actions de formation continue | F134: Activités Pédagogiques Complémentaires APC | H134: TOTAL
B135: =E18 -> 0 | C135: =SUM(D35+H35+D52+H52+D67) -> 0 | E135: =SUM(F82) -> 0 | F135: =SUM(C105+F105+I105+C126+F126) -> 0 | H135: =SUM(B135:G135) -> 0
D138: ORS | E138: Heures programmées pour l'année scolaire en cours | F138: état
D139: =SUM(I2:I14) -> 0 | E139: =SUM(B135:F135) -> 0 | F139: =IF(D139<=E139,"ORS à jour","Revoir ORS") -> ORS à jour
B141: =B3 -> 0 | E141: =D3 -> 0

Sheet Enseignant 5
H2: 1
A3: Prénom | B3: =Récapitulatif!B7 -> 0 | C3: Nom | D3: =Récapitulatif!C7 -> 0 | G3: Enseignant | H3: 0.8
A4: de l'enseignant | H4: 0.75
H5: 0.5
H6: 0.33
A7: Ecole | B7: =Récapitulatif!C1 -> 0 | C7: Commune : | D7: =Récapitulatif!E1 -> 0 | H7: 0.25
G8: Chef d'établissement 1 à 2 classes
A9: Circonscription | C9: =Récapitulatif!H1 -> Segré | G9: Chef d'établissement 3 à 4 classes
G10: Chef d'établissement 5 et +
B11: 1. CONSEILS D'ETABLISSEMENT (6 heures)
C14: Date | D14: Horaires | E14: Durée
G16: =Récapitulatif!D23 -> 2025-2026
C18: TOTAL | E18: =SUM(E15:E17) -> 0
B20: 2. TRAVAUX EN EQUIPES PÉDAGOGIQUES, RELATIONS AVEC LES PARENTS ET SUIVI DES PPS (48h)
B22: Période 1 | F22: Période 2
B24: Date | C24: Objet | D24: Durée | F24: Date | G24: Objet | H24: Durée
B35: TOTAL | D35: =SUM(D25:D34) -> 0 | F35: TOTAL | H35: =SUM(H25:H34) -> 0
B39: Période 3 | F39: Période 4
B41: Date | C41: Objet | D41: Durée | F41: Date | G41: Objet | H41: Durée
B52: TOTAL | D52: =SUM(D42:D51) -> 0 | F52: TOTAL | H52: =SUM(H42:H51) -> 0
B54: Période 5
B56: Date | C56: Objet | D56: Durée
B67: TOTAL | D67: =SUM(D57:D66) -> 0
B70: 3. ANIMATIONS PÉDAGOGIQUES ET ACTIONS DE FORMATION CONTINUE (18h)
C72: Intitulé | E72: Date | F72: Durée
C82: TOTAL | F82: =SUM(F73:F81) -> 0
B88: 4. ACTIVITES PEDAGOGIQUES COMPLEMENTAIRES APC (36h)
B90: Période 1 | E90: Période 2 | H90: Période 3
B92: Date | C92: Durée | E92: Date | F92: Durée | H92: Date | I92: Durée
B105: TOTAL | C105: =SUM(C93:C104) -> 0 | E105: TOTAL | F105: =SUM(F93:F104) -> 0 | H105: TOTAL | I105: =SUM(I93:I104) -> 0
B111: Période 4 | E111: Période 5
B113: Date | C113: Durée | E113: Date | F113: Durée
B126: TOTAL | C126: =SUM(C114:C125) -> 0 | E126: TOTAL | F126: =SUM(F114:F125) -> 0
B132: 6. RÉCAPITULATIF
B134: Conseils d'établissement | C134: Travaux en équipe pédagogique, relations avec les parents et suivi du PPS | E134: Animations pédagogiques et actions de formation continue | F134: Activités Pédagogiques Complémentaires APC | H134: TOTAL
B135: =E18 -> 0 | C135: =SUM(D35+H35+D52+H52+D67) -> 0 | E135: =SUM(F82) -> 0 | F135: =SUM(C105+F105+I105+C126+F126) -> 0 | H135: =SUM(B135:G135) -> 0
D138: ORS | E138: Heures programmées pour l'année scolaire en cours | F138: état
D139: =SUM(I2:I14) -> 0 | E139: =SUM(B135:F135) -> 0 | F139: =IF(D139<=E139,"ORS à jour","Revoir ORS") -> ORS à jour
B141: =B3 -> 0 | E141: =D3 -> 0

Sheet Enseignant 6
H2: 1
A3: Prénom | B3: =Récapitulatif!B8 -> 0 | C3: Nom | D3: =Récapitulatif!C8 -> 0 | G3: Enseignant | H3: 0.8
A4: de l'enseignant | H4: 0.75
H5: 0.5
H6: 0.33
A7: Ecole | B7: =Récapitulatif!C1 -> 0 | C7: Commune : | D7: =Récapitulatif!E1 -> 0 | H7: 0.25
G8: Chef d'établissement 1 à 2 classes
A9: Circonscription | C9: =Récapitulatif!H1 -> Segré | G9: Chef d'établissement 3 à 4 classes
G10: Chef d'établissement 5 et +
B11: 1. CONSEILS D'ETABLISSEMENT (6 heures)
C14: Date | D14: Horaires | E14: Durée
G16: =Récapitulatif!D23 -> 2025-2026
C18: TOTAL | E18: =SUM(E15:E17) -> 0
B20: 2. TRAVAUX EN EQUIPES PÉDAGOGIQUES, RELATIONS AVEC LES PARENTS ET SUIVI DES PPS (48h)
B22: Période 1 | F22: Période 2
B24: Date | C24: Objet | D24: Durée | F24: Date | G24: Objet | H24: Durée
B35: TOTAL | D35: =SUM(D25:D34) -> 0 | F35: TOTAL | H35: =SUM(H25:H34) -> 0
B39: Période 3 | F39: Période 4
B41: Date | C41: Objet | D41: Durée | F41: Date | G41: Objet | H41: Durée
B52: TOTAL | D52: =SUM(D42:D51) -> 0 | F52: TOTAL | H52: =SUM(H42:H51) -> 0
B54: Période 5
B56: Date | C56: Objet | D56: Durée
B67: TOTAL | D67: =SUM(D57:D66) -> 0
B70: 3. ANIMATIONS PÉDAGOGIQUES ET ACTIONS DE FORMATION CONTINUE (18h)
C72: Intitulé | E72: Date | F72: Durée
C82: TOTAL | F82: =SUM(F73:F81) -> 0
B88: 4. ACTIVITES PEDAGOGIQUES COMPLEMENTAIRES APC (36h)
B90: Période 1 | E90: Période 2 | H90: Période 3
B92: Date | C92: Durée | E92: Date | F92: Durée | H92: Date | I92: Durée
B105: TOTAL | C105: =SUM(C93:C104) -> 0 | E105: TOTAL | F105: =SUM(F93:F104) -> 0 | H105: TOTAL | I105: =SUM(I93:I104) -> 0
B111: Période 4 | E111: Période 5
B113: Date | C113: Durée | E113: Date | F113: Durée
B126: TOTAL | C126: =SUM(C114:C125) -> 0 | E126: TOTAL | F126: =SUM(F114:F125) -> 0
B132: 6. RÉCAPITULATIF
B134: Conseils d'établissement | C134: Travaux en équipe pédagogique, relations avec les parents et suivi du PPS | E134: Animations pédagogiques et actions de formation continue | F134: Activités Pédagogiques Complémentaires APC | H134: TOTAL
B135: =E18 -> 0 | C135: =SUM(D35+H35+D52+H52+D67) -> 0 | E135: =SUM(F82) -> 0 | F135: =SUM(C105+F105+I105+C126+F126) -> 0 | H135: =SUM(B135:G135) -> 0
D138: ORS | E138: Heures programmées pour l'année scolaire en cours | F138: état
D139: =SUM(I2:I14) -> 0 | E139: =SUM(B135:F135) -> 0 | F139: =IF(D139<=E139,"ORS à jour","Revoir ORS") -> ORS à jour
B141: =B3 -> 0 | E141: =D3 -> 0

Sheet Enseignant 7
H2: 1
A3: Prénom | B3: =Récapitulatif!B9 -> 0 | C3: Nom | D3: =Récapitulatif!C9 -> 0 | G3: Enseignant | H3: 0.8
A4: de l'enseignant | H4: 0.75
H5: 0.5
H6: 0.33
A7: Ecole | B7: =Récapitulatif!C1 -> 0 | C7: Commune : | D7: =Récapitulatif!E1 -> 0 | H7: 0.25
G8: Chef d'établissement 1 à 2 classes
A9: Circonscription | C9: =Récapitulatif!H1 -> Segré | G9: Chef d'établissement 3 à 4 classes
G10: Chef d'établissement 5 et +
B11: 1. CONSEILS D'ETABLISSEMENT (6 heures)
C14: Date | D14: Horaires | E14: Durée
G16: =Récapitulatif!D23 -> 2025-2026
C18: TOTAL | E18: =SUM(E15:E17) -> 0
B20: 2. TRAVAUX EN EQUIPES PÉDAGOGIQUES, RELATIONS AVEC LES PARENTS ET SUIVI DES PPS (48h)
B22: Période 1 | F22: Période 2
B24: Date | C24: Objet | D24: Durée | F24: Date | G24: Objet | H24: Durée
B35: TOTAL | D35: =SUM(D25:D34) -> 0 | F35: TOTAL | H35: =SUM(H25:H34) -> 0
B39: Période 3 | F39: Période 4
B41: Date | C41: Objet | D41: Durée | F41: Date | G41: Objet | H41: Durée
B52: TOTAL | D52: =SUM(D42:D51) -> 0 | F52: TOTAL | H52: =SUM(H42:H51) -> 0
B54: Période 5
B56: Date | C56: Objet | D56: Durée
B67: TOTAL | D67: =SUM(D57:D66) -> 0
B70: 3. ANIMATIONS PÉDAGOGIQUES ET ACTIONS DE FORMATION CONTINUE (18h)
C72: Intitulé | E72: Date | F72: Durée
C82: TOTAL | F82: =SUM(F73:F81) -> 0
B88: 4. ACTIVITES PEDAGOGIQUES COMPLEMENTAIRES APC (36h)
B90: Période 1 | E90: Période 2 | H90: Période 3
B92: Date | C92: Durée | E92: Date | F92: Durée | H92: Date | I92: Durée
B105: TOTAL | C105: =SUM(C93:C104) -> 0 | E105: TOTAL | F105: =SUM(F93:F104) -> 0 | H105: TOTAL | I105: =SUM(I93:I104) -> 0
B111: Période 4 | E111: Période 5
B113: Date | C113: Durée | E113: Date | F113: Durée
B126: TOTAL | C126: =SUM(C114:C125) -> 0 | E126: TOTAL | F126: =SUM(F114:F125) -> 0
B132: 6. RÉCAPITULATIF
B134: Conseils d'établissement | C134: Travaux en équipe pédagogique, relations avec les parents et suivi du PPS | E134: Animations pédagogiques et actions de formation continue | F134: Activités Pédagogiques Complémentaires APC | H134: TOTAL
B135: =E18 -> 0 | C135: =SUM(D35+H35+D52+H52+D67) -> 0 | E135: =SUM(F82) -> 0 | F135: =SUM(C105+F105+I105+C126+F126) -> 0 | H135: =SUM(B135:G135) -> 0
D138: ORS | E138: Heures programmées pour l'année scolaire en cours | F138: état
D139: =SUM(I2:I14) -> 0 | E139: =SUM(B135:F135) -> 0 | F139: =IF(D139<=E139,"ORS à jour","Revoir ORS") -> ORS à jour
B141: =B3 -> 0 | E141: =D3 -> 0

Sheet Enseignant 8
H2: 1
A3: Prénom | B3: =Récapitulatif!B10 -> 0 | C3: Nom | D3: =Récapitulatif!C10 -> 0 | G3: Enseignant | H3: 0.8
A4: de l'enseignant | H4: 0.75
H5: 0.5
H6: 0.33
A7: Ecole | B7: =Récapitulatif!C1 -> 0 | C7: Commune : | D7: =Récapitulatif!E1 -> 0 | H7: 0.25
G8: Chef d'établissement 1 à 2 classes
A9: Circonscription | C9: =Récapitulatif!H1 -> Segré | G9: Chef d'établissement 3 à 4 classes
G10: Chef d'établissement 5 et +
B11: 1. CONSEILS D'ETABLISSEMENT (6 heures)
C14: Date | D14: Horaires | E14: Durée
G16: =Récapitulatif!D23 -> 2025-2026
C18: TOTAL | E18: =SUM(E15:E17) -> 0
B20: 2. TRAVAUX EN EQUIPES PÉDAGOGIQUES, RELATIONS AVEC LES PARENTS ET SUIVI DES PPS (48h)
B22: Période 1 | F22: Période 2
B24: Date | C24: Objet | D24: Durée | F24: Date | G24: Objet | H24: Durée
B35: TOTAL | D35: =SUM(D25:D34) -> 0 | F35: TOTAL | H35: =SUM(H25:H34) -> 0
B39: Période 3 | F39: Période 4
B41: Date | C41: Objet | D41: Durée | F41: Date | G41: Objet | H41: Durée
B52: TOTAL | D52: =SUM(D42:D51) -> 0 | F52: TOTAL | H52: =SUM(H42:H51) -> 0
B54: Période 5
B56: Date | C56: Objet | D56: Durée
B67: TOTAL | D67: =SUM(D57:D66) -> 0
B70: 3. ANIMATIONS PÉDAGOGIQUES ET ACTIONS DE FORMATION CONTINUE (18h)
C72: Intitulé | E72: Date | F72: Durée
C82: TOTAL | F82: =SUM(F73:F81) -> 0
B88: 4. ACTIVITES PEDAGOGIQUES COMPLEMENTAIRES APC (36h)
B90: Période 1 | E90: Période 2 | H90: Période 3
B92: Date | C92: Durée | E92: Date | F92: Durée | H92: Date | I92: Durée
B105: TOTAL | C105: =SUM(C93:C104) -> 0 | E105: TOTAL | F105: =SUM(F93:F104) -> 0 | H105: TOTAL | I105: =SUM(I93:I104) -> 0
B111: Période 4 | E111: Période 5
B113: Date | C113: Durée | E113: Date | F113: Durée
B126: TOTAL | C126: =SUM(C114:C125) -> 0 | E126: TOTAL | F126: =SUM(F114:F125) -> 0
B132: 6. RÉCAPITULATIF
B134: Conseils d'établissement | C134: Travaux en équipe pédagogique, relations avec les parents et suivi du PPS | E134: Animations pédagogiques et actions de formation continue | F134: Activités Pédagogiques Complémentaires APC | H134: TOTAL
B135: =E18 -> 0 | C135: =SUM(D35+H35+D52+H52+D67) -> 0 | E135: =SUM(F82) -> 0 | F135: =SUM(C105+F105+I105+C126+F126) -> 0 | H135: =SUM(B135:G135) -> 0
D138: ORS | E138: Heures programmées pour l'année scolaire en cours | F138: état
D139: =SUM(I2:I14) -> 0 | E139: =SUM(B135:F135) -> 0 | F139: =IF(D139<=E139,"ORS à jour","Revoir ORS") -> ORS à jour
B141: =B3 -> 0 | E141: =D3 -> 0

Sheet Enseignant 9
H2: 1
A3: Prénom | B3: =Récapitulatif!B11 -> 0 | C3: Nom | D3: =Récapitulatif!C11 -> 0 | G3: Enseignant | H3: 0.8
A4: de l'enseignant | H4: 0.75
H5: 0.5
H6: 0.33
A7: Ecole | B7: =Récapitulatif!C1 -> 0 | C7: Commune : | D7: =Récapitulatif!E1 -> 0 | H7: 0.25
G8: Chef d'établissement 1 à 2 classes
A9: Circonscription | C9: =Récapitulatif!H1 -> Segré | G9: Chef d'établissement 3 à 4 classes
G10: Chef d'établissement 5 et +
B11: 1. CONSEILS D'ETABLISSEMENT (6 heures)
C14: Date | D14: Horaires | E14: Durée
G16: =Récapitulatif!D23 -> 2025-2026
C18: TOTAL | E18: =SUM(E15:E17) -> 0
B20: 2. TRAVAUX EN EQUIPES PÉDAGOGIQUES, RELATIONS AVEC LES PARENTS ET SUIVI DES PPS (48h)
B22: Période 1 | F22: Période 2
B24: Date | C24: Objet | D24: Durée | F24: Date | G24: Objet | H24: Durée
B35: TOTAL | D35: =SUM(D25:D34) -> 0 | F35: TOTAL | H35: =SUM(H25:H34) -> 0
B39: Période 3 | F39: Période 4
B41: Date | C41: Objet | D41: Durée | F41: Date | G41: Objet | H41: Durée
B52: TOTAL | D52: =SUM(D42:D51) -> 0 | F52: TOTAL | H52: =SUM(H42:H51) -> 0
B54: Période 5
B56: Date | C56: Objet | D56: Durée
B67: TOTAL | D67: =SUM(D57:D66) -> 0
B70: 3. ANIMATIONS PÉDAGOGIQUES ET ACTIONS DE FORMATION CONTINUE (18h)
C72: Intitulé | E72: Date | F72: Durée
C82: TOTAL | F82: =SUM(F73:F81) -> 0
B88: 4. ACTIVITES PEDAGOGIQUES COMPLEMENTAIRES APC (36h)
B90: Période 1 | E90: Période 2 | H90: Période 3
B92: Date | C92: Durée | E92: Date | F92: Durée | H92: Date | I92: Durée
B105: TOTAL | C105: =SUM(C93:C104) -> 0 | E105: TOTAL | F105: =SUM(F93:F104) -> 0 | H105: TOTAL | I105: =SUM(I93:I104) -> 0
B111: Période 4 | E111: Période 5
B113: Date | C113: Durée | E113: Date | F113: Durée
B126: TOTAL | C126: =SUM(C114:C125) -> 0 | E126: TOTAL | F126: =SUM(F114:F125) -> 0
B132: 6. RÉCAPITULATIF
B134: Conseils d'établissement | C134: Travaux en équipe pédagogique, relations avec les parents et suivi du PPS | E134: Animations pédagogiques et actions de formation continue | F134: Activités Pédagogiques Complémentaires APC | H134: TOTAL
B135: =E18 -> 0 | C135: =SUM(D35+H35+D52+H52+D67) -> 0 | E135: =SUM(F82) -> 0 | F135: =SUM(C105+F105+I105+C126+F126) -> 0 | H135: =SUM(B135:G135) -> 0
D138: ORS | E138: Heures programmées pour l'année scolaire en cours | F138: état
D139: =SUM(I2:I14) -> 0 | E139: =SUM(B135:F135) -> 0 | F139: =IF(D139<=E139,"ORS à jour","Revoir ORS") -> ORS à jour
B141: =B3 -> 0 | E141: =D3 -> 0

Sheet Enseignant 10
H2: 1
A3: Prénom | B3: =Récapitulatif!B12 -> 0 | C3: Nom | D3: =Récapitulatif!C12 -> 0 | G3: Enseignant | H3: 0.8
A4: de l'enseignant | H4: 0.75
H5: 0.5
H6: 0.33
A7: Ecole | B7: =Récapitulatif!C1 -> 0 | C7: Commune : | D7: =Récapitulatif!E1 -> 0 | H7: 0.25
G8: Chef d'établissement 1 à 2 classes
A9: Circonscription | C9: =Récapitulatif!H1 -> Segré | G9: Chef d'établissement 3 à 4 classes
G10: Chef d'établissement 5 et +
B11: 1. CONSEILS D'ETABLISSEMENT (6 heures)
C14: Date | D14: Horaires | E14: Durée
G16: =Récapitulatif!D23 -> 2025-2026
C18: TOTAL | E18: =SUM(E15:E17) -> 0
B20: 2. TRAVAUX EN EQUIPES PÉDAGOGIQUES, RELATIONS AVEC LES PARENTS ET SUIVI DES PPS (48h)
B22: Période 1 | F22: Période 2
B24: Date | C24: Objet | D24: Durée | F24: Date | G24: Objet | H24: Durée
B35: TOTAL | D35: =SUM(D25:D34) -> 0 | F35: TOTAL | H35: =SUM(H25:H34) -> 0
B39: Période 3 | F39: Période 4
B41: Date | C41: Objet | D41: Durée | F41: Date | G41: Objet | H41: Durée
B52: TOTAL | D52: =SUM(D42:D51) -> 0 | F52: TOTAL | H52: =SUM(H42:H51) -> 0
B54: Période 5
B56: Date | C56: Objet | D56: Durée
B67: TOTAL | D67: =SUM(D57:D66) -> 0
B70: 3. ANIMATIONS PÉDAGOGIQUES ET ACTIONS DE FORMATION CONTINUE (18h)
C72: Intitulé | E72: Date | F72: Durée
C82: TOTAL | F82: =SUM(F73:F81) -> 0
B88: 4. ACTIVITES PEDAGOGIQUES COMPLEMENTAIRES APC (36h)
B90: Période 1 | E90: Période 2 | H90: Période 3
B92: Date | C92: Durée | E92: Date | F92: Durée | H92: Date | I92: Durée
B105: TOTAL | C105: =SUM(C93:C104) -> 0 | E105: TOTAL | F105: =SUM(F93:F104) -> 0 | H105: TOTAL | I105: =SUM(I93:I104) -> 0
B111: Période 4 | E111: Période 5
B113: Date | C113: Durée | E113: Date | F113: Durée
B126: TOTAL | C126: =SUM(C114:C125) -> 0 | E126: TOTAL | F126: =SUM(F114:F125) -> 0
B132: 6. RÉCAPITULATIF
B134: Conseils d'établissement | C134: Travaux en équipe pédagogique, relations avec les parents et suivi du PPS | E134: Animations pédagogiques et actions de formation continue | F134: Activités Pédagogiques Complémentaires APC | H134: TOTAL
B135: =E18 -> 0 | C135: =SUM(D35+H35+D52+H52+D67) -> 0 | E135: =SUM(F82) -> 0 | F135: =SUM(C105+F105+I105+C126+F126) -> 0 | H135: =SUM(B135:G135) -> 0
D138: ORS | E138: Heures programmées pour l'année scolaire en cours | F138: état
D139: =SUM(I2:I14) -> 0 | E139: =SUM(B135:F135) -> 0 | F139: =IF(D139<=E139,"ORS à jour","Revoir ORS") -> ORS à jour
B141: =B3 -> 0 | E141: =D3 -> 0

Sheet Enseignant 11
H2: 1
A3: Prénom | B3: =Récapitulatif!B13 -> 0 | C3: Nom | D3: =Récapitulatif!C13 -> 0 | G3: Enseignant | H3: 0.8
A4: de l'enseignant | H4: 0.75
H5: 0.5
H6: 0.33
A7: Ecole | B7: =Récapitulatif!C1 -> 0 | C7: Commune : | D7: =Récapitulatif!E1 -> 0 | H7: 0.25
G8: Chef d'établissement 1 à 2 classes
A9: Circonscription | C9: =Récapitulatif!H1 -> Segré | G9: Chef d'établissement 3 à 4 classes
G10: Chef d'établissement 5 et +
B11: 1. CONSEILS D'ETABLISSEMENT (6 heures)
C14: Date | D14: Horaires | E14: Durée
G16: =Récapitulatif!D23 -> 2025-2026
C18: TOTAL | E18: =SUM(E15:E17) -> 0
B20: 2. TRAVAUX EN EQUIPES PÉDAGOGIQUES, RELATIONS AVEC LES PARENTS ET SUIVI DES PPS (48h)
B22: Période 1 | F22: Période 2
B24: Date | C24: Objet | D24: Durée | F24: Date | G24: Objet | H24: Durée
B35: TOTAL | D35: =SUM(D25:D34) -> 0 | F35: TOTAL | H35: =SUM(H25:H34) -> 0
B39: Période 3 | F39: Période 4
B41: Date | C41: Objet | D41: Durée | F41: Date | G41: Objet | H41: Durée
B52: TOTAL | D52: =SUM(D42:D51) -> 0 | F52: TOTAL | H52: =SUM(H42:H51) -> 0
B54: Période 5
B56: Date | C56: Objet | D56: Durée
B67: TOTAL | D67: =SUM(D57:D66) -> 0
B70: 3. ANIMATIONS PÉDAGOGIQUES ET ACTIONS DE FORMATION CONTINUE (18h)
C72: Intitulé | E72: Date | F72: Durée
C82: TOTAL | F82: =SUM(F73:F81) -> 0
B88: 4. ACTIVITES PEDAGOGIQUES COMPLEMENTAIRES APC (36h)
B90: Période 1 | E90: Période 2 | H90: Période 3
B92: Date | C92: Durée | E92: Date | F92: Durée | H92: Date | I92: Durée
B105: TOTAL | C105: =SUM(C93:C104) -> 0 | E105: TOTAL | F105: =SUM(F93:F104) -> 0 | H105: TOTAL | I105: =SUM(I93:I104) -> 0
B111: Période 4 | E111: Période 5
B113: Date | C113: Durée | E113: Date | F113: Durée
B126: TOTAL | C126: =SUM(C114:C125) -> 0 | E126: TOTAL | F126: =SUM(F114:F125) -> 0
B132: 6. RÉCAPITULATIF
B134: Conseils d'établissement | C134: Travaux en équipe pédagogique, relations avec les parents et suivi du PPS | E134: Animations pédagogiques et actions de formation continue | F134: Activités Pédagogiques Complémentaires APC | H134: TOTAL
B135: =E18 -> 0 | C135: =SUM(D35+H35+D52+H52+D67) -> 0 | E135: =SUM(F82) -> 0 | F135: =SUM(C105+F105+I105+C126+F126) -> 0 | H135: =SUM(B135:G135) -> 0
D138: ORS | E138: Heures programmées pour l'année scolaire en cours | F138: état
D139: =SUM(I2:I14) -> 0 | E139: =SUM(B135:F135) -> 0 | F139: =IF(D139<=E139,"ORS à jour","Revoir ORS") -> ORS à jour
B141: =B3 -> 0 | E141: =D3 -> 0

Sheet Enseignant 12
H2: 1
A3: Prénom | B3: =Récapitulatif!B14 -> 0 | C3: Nom | D3: =Récapitulatif!C14 -> 0 | G3: Enseignant | H3: 0.8
A4: de l'enseignant | H4: 0.75
H5: 0.5
H6: 0.33
A7: Ecole | B7: =Récapitulatif!C1 -> 0 | C7: Commune : | D7: =Récapitulatif!E1 -> 0 | H7: 0.25
G8: Chef d'établissement 1 à 2 classes
A9: Circonscription | C9: =Récapitulatif!H1 -> Segré | G9: Chef d'établissement 3 à 4 classes
G10: Chef d'établissement 5 et +
B11: 1. CONSEILS D'ETABLISSEMENT (6 heures)
C14: Date | D14: Horaires | E14: Durée
G16: =Récapitulatif!D23 -> 2025-2026
C18: TOTAL | E18: =SUM(E15:E17) -> 0
B20: 2. TRAVAUX EN EQUIPES PÉDAGOGIQUES, RELATIONS AVEC LES PARENTS ET SUIVI DES PPS (48h)
B22: Période 1 | F22: Période 2
B24: Date | C24: Objet | D24: Durée | F24: Date | G24: Objet | H24: Durée
B35: TOTAL | D35: =SUM(D25:D34) -> 0 | F35: TOTAL | H35: =SUM(H25:H34) -> 0
B39: Période 3 | F39: Période 4
B41: Date | C41: Objet | D41: Durée | F41: Date | G41: Objet | H41: Durée
B52: TOTAL | D52: =SUM(D42:D51) -> 0 | F52: TOTAL | H52: =SUM(H42:H51) -> 0
B54: Période 5
B56: Date | C56: Objet | D56: Durée
B67: TOTAL | D67: =SUM(D57:D66) -> 0
B70: 3. ANIMATIONS PÉDAGOGIQUES ET ACTIONS DE FORMATION CONTINUE (18h)
C72: Intitulé | E72: Date | F72: Durée
C82: TOTAL | F82: =SUM(F73:F81) -> 0
B88: 4. ACTIVITES PEDAGOGIQUES COMPLEMENTAIRES APC (36h)
B90: Période 1 | E90: Période 2 | H90: Période 3
B92: Date | C92: Durée | E92: Date | F92: Durée | H92: Date | I92: Durée
B105: TOTAL | C105: =SUM(C93:C104) -> 0 | E105: TOTAL | F105: =SUM(F93:F104) -> 0 | H105: TOTAL | I105: =SUM(I93:I104) -> 0
B111: Période 4 | E111: Période 5
B113: Date | C113: Durée | E113: Date | F113: Durée
B126: TOTAL | C126: =SUM(C114:C125) -> 0 | E126: TOTAL | F126: =SUM(F114:F125) -> 0
B132: 6. RÉCAPITULATIF
B134: Conseils d'établissement | C134: Travaux en équipe pédagogique, relations avec les parents et suivi du PPS | E134: Animations pédagogiques et actions de formation continue | F134: Activités Pédagogiques Complémentaires APC | H134: TOTAL
B135: =E18 -> 0 | C135: =SUM(D35+H35+D52+H52+D67) -> 0 | E135: =SUM(F82) -> 0 | F135: =SUM(C105+F105+I105+C126+F126) -> 0 | H135: =SUM(B135:G135) -> 0
D138: ORS | E138: Heures programmées pour l'année scolaire en cours | F138: état
D139: =SUM(I2:I14) -> 0 | E139: =SUM(B135:F135) -> 0 | F139: =IF(D139<=E139,"ORS à jour","Revoir ORS") -> ORS à jour
B141: =B3 -> 0 | E141: =D3 -> 0

Sheet Enseignant 13
H2: 1
A3: Prénom | B3: =Récapitulatif!B15 -> 0 | C3: Nom | D3: =Récapitulatif!C15 -> 0 | G3: Enseignant | H3: 0.8
A4: de l'enseignant | H4: 0.75
H5: 0.5
H6: 0.33
A7: Ecole | B7: =Récapitulatif!C1 -> 0 | C7: Commune : | D7: =Récapitulatif!E1 -> 0 | H7: 0.25
G8: Chef d'établissement 1 à 2 classes
A9: Circonscription | C9: =Récapitulatif!H1 -> Segré | G9: Chef d'établissement 3 à 4 classes
G10: Chef d'établissement 5 et +
B11: 1. CONSEILS D'ETABLISSEMENT (6 heures)
C14: Date | D14: Horaires | E14: Durée
G16: =Récapitulatif!D23 -> 2025-2026
C18: TOTAL | E18: =SUM(E15:E17) -> 0
B20: 2. TRAVAUX EN EQUIPES PÉDAGOGIQUES, RELATIONS AVEC LES PARENTS ET SUIVI DES PPS (48h)
B22: Période 1 | F22: Période 2
B24: Date | C24: Objet | D24: Durée | F24: Date | G24: Objet | H24: Durée
B35: TOTAL | D35: =SUM(D25:D34) -> 0 | F35: TOTAL | H35: =SUM(H25:H34) -> 0
B39: Période 3 | F39: Période 4
B41: Date | C41: Objet | D41: Durée | F41: Date | G41: Objet | H41: Durée
B52: TOTAL | D52: =SUM(D42:D51) -> 0 | F52: TOTAL | H52: =SUM(H42:H51) -> 0
B54: Période 5
B56: Date | C56: Objet | D56: Durée
B67: TOTAL | D67: =SUM(D57:D66) -> 0
B70: 3. ANIMATIONS PÉDAGOGIQUES ET ACTIONS DE FORMATION CONTINUE (18h)
C72: Intitulé | E72: Date | F72: Durée
C82: TOTAL | F82: =SUM(F73:F81) -> 0
B88: 4. ACTIVITES PEDAGOGIQUES COMPLEMENTAIRES APC (36h)
B90: Période 1 | E90: Période 2 | H90: Période 3
B92: Date | C92: Durée | E92: Date | F92: Durée | H92: Date | I92: Durée
B105: TOTAL | C105: =SUM(C93:C104) -> 0 | E105: TOTAL | F105: =SUM(F93:F104) -> 0 | H105: TOTAL | I105: =SUM(I93:I104) -> 0
B111: Période 4 | E111: Période 5
B113: Date | C113: Durée | E113: Date | F113: Durée
B126: TOTAL | C126: =SUM(C114:C125) -> 0 | E126: TOTAL | F126: =SUM(F114:F125) -> 0
B132: 6. RÉCAPITULATIF
B134: Conseils d'établissement | C134: Travaux en équipe pédagogique, relations avec les parents et suivi du PPS | E134: Animations pédagogiques et actions de formation continue | F134: Activités Pédagogiques Complémentaires APC | H134: TOTAL
B135: =E18 -> 0 | C135: =SUM(D35+H35+D52+H52+D67) -> 0 | E135: =SUM(F82) -> 0 | F135: =SUM(C105+F105+I105+C126+F126) -> 0 | H135: =SUM(B135:G135) -> 0
D138: ORS | E138: Heures programmées pour l'année scolaire en cours | F138: état
D139: =SUM(I2:I14) -> 0 | E139: =SUM(B135:F135) -> 0 | F139: =IF(D139<=E139,"ORS à jour","Revoir ORS") -> ORS à jour
B141: =B3 -> 0 | E141: =D3 -> 0

Sheet Enseignant 14
H2: 1
A3: Prénom | B3: =Récapitulatif!B16 -> 0 | C3: Nom | D3: =Récapitulatif!C16 -> 0 | G3: Enseignant | H3: 0.8
A4: de l'enseignant | H4: 0.75
H5: 0.5
H6: 0.33
A7: Ecole | B7: =Récapitulatif!C1 -> 0 | C7: Commune : | D7: =Récapitulatif!E1 -> 0 | H7: 0.25
G8: Chef d'établissement 1 à 2 classes
A9: Circonscription | C9: =Récapitulatif!H1 -> Segré | G9: Chef d'établissement 3 à 4 classes
G10: Chef d'établissement 5 et +
B11: 1. CONSEILS D'ETABLISSEMENT (6 heures)
C14: Date | D14: Horaires | E14: Durée
G16: =Récapitulatif!D23 -> 2025-2026
C18: TOTAL | E18: =SUM(E15:E17) -> 0
B20: 2. TRAVAUX EN EQUIPES PÉDAGOGIQUES, RELATIONS AVEC LES PARENTS ET SUIVI DES PPS (48h)
B22: Période 1 | F22: Période 2
B24: Date | C24: Objet | D24: Durée | F24: Date | G24: Objet | H24: Durée
B35: TOTAL | D35: =SUM(D25:D34) -> 0 | F35: TOTAL | H35: =SUM(H25:H34) -> 0
B39: Période 3 | F39: Période 4
B41: Date | C41: Objet | D41: Durée | F41: Date | G41: Objet | H41: Durée
B52: TOTAL | D52: =SUM(D42:D51) -> 0 | F52: TOTAL | H52: =SUM(H42:H51) -> 0
B54: Période 5
B56: Date | C56: Objet | D56: Durée
B67: TOTAL | D67: =SUM(D57:D66) -> 0
B70: 3. ANIMATIONS PÉDAGOGIQUES ET ACTIONS DE FORMATION CONTINUE (18h)
C72: Intitulé | E72: Date | F72: Durée
C82: TOTAL | F82: =SUM(F73:F81) -> 0
B88: 4. ACTIVITES PEDAGOGIQUES COMPLEMENTAIRES APC (36h)
B90: Période 1 | E90: Période 2 | H90: Période 3
B92: Date | C92: Durée | E92: Date | F92: Durée | H92: Date | I92: Durée
B105: TOTAL | C105: =SUM(C93:C104) -> 0 | E105: TOTAL | F105: =SUM(F93:F104) -> 0 | H105: TOTAL | I105: =SUM(I93:I104) -> 0
B111: Période 4 | E111: Période 5
B113: Date | C113: Durée | E113: Date | F113: Durée
B126: TOTAL | C126: =SUM(C114:C125) -> 0 | E126: TOTAL | F126: =SUM(F114:F125) -> 0
B132: 6. RÉCAPITULATIF
B134: Conseils d'établissement | C134: Travaux en équipe pédagogique, relations avec les parents et suivi du PPS | E134: Animations pédagogiques et actions de formation continue | F134: Activités Pédagogiques Complémentaires APC | H134: TOTAL
B135: =E18 -> 0 | C135: =SUM(D35+H35+D52+H52+D67) -> 0 | E135: =SUM(F82) -> 0 | F135: =SUM(C105+F105+I105+C126+F126) -> 0 | H135: =SUM(B135:G135) -> 0
D138: ORS | E138: Heures programmées pour l'année scolaire en cours | F138: état
D139: =SUM(I2:I14) -> 0 | E139: =SUM(B135:F135) -> 0 | F139: =IF(D139<=E139,"ORS à jour","Revoir ORS") -> ORS à jour
B141: =B3 -> 0 | E141: =D3 -> 0

Sheet Enseignant 15
H2: 1
A3: Prénom | B3: =Récapitulatif!B17 -> 0 | C3: Nom | D3: =Récapitulatif!C17 -> 0 | G3: Enseignant | H3: 0.8
A4: de l'enseignant | H4: 0.75
H5: 0.5
H6: 0.33
A7: Ecole | B7: =Récapitulatif!C1 -> 0 | C7: Commune : | D7: =Récapitulatif!E1 -> 0 | H7: 0.25
G8: Chef d'établissement 1 à 2 classes
A9: Circonscription | C9: =Récapitulatif!H1 -> Segré | G9: Chef d'établissement 3 à 4 classes
G10: Chef d'établissement 5 et +
B11: 1. CONSEILS D'ETABLISSEMENT (6 heures)
C14: Date | D14: Horaires | E14: Durée
G16: =Récapitulatif!D23 -> 2025-2026
C18: TOTAL | E18: =SUM(E15:E17) -> 0
B20: 2. TRAVAUX EN EQUIPES PÉDAGOGIQUES, RELATIONS AVEC LES PARENTS ET SUIVI DES PPS (48h)
B22: Période 1 | F22: Période 2
B24: Date | C24: Objet | D24: Durée | F24: Date | G24: Objet | H24: Durée
B35: TOTAL | D35: =SUM(D25:D34) -> 0 | F35: TOTAL | H35: =SUM(H25:H34) -> 0
B39: Période 3 | F39: Période 4
B41: Date | C41: Objet | D41: Durée | F41: Date | G41: Objet | H41: Durée
B52: TOTAL | D52: =SUM(D42:D51) -> 0 | F52: TOTAL | H52: =SUM(H42:H51) -> 0
B54: Période 5
B56: Date | C56: Objet | D56: Durée
B67: TOTAL | D67: =SUM(D57:D66) -> 0
B70: 3. ANIMATIONS PÉDAGOGIQUES ET ACTIONS DE FORMATION CONTINUE (18h)
C72: Intitulé | E72: Date | F72: Durée
C82: TOTAL | F82: =SUM(F73:F81) -> 0
B88: 4. ACTIVITES PEDAGOGIQUES COMPLEMENTAIRES APC (36h)
B90: Période 1 | E90: Période 2 | H90: Période 3
B92: Date | C92: Durée | E92: Date | F92: Durée | H92: Date | I92: Durée
B105: TOTAL | C105: =SUM(C93:C104) -> 0 | E105: TOTAL | F105: =SUM(F93:F104) -> 0 | H105: TOTAL | I105: =SUM(I93:I104) -> 0
B111: Période 4 | E111: Période 5
B113: Date | C113: Durée | E113: Date | F113: Durée
B126: TOTAL | C126: =SUM(C114:C125) -> 0 | E126: TOTAL | F126: =SUM(F114:F125) -> 0
B132: 6. RÉCAPITULATIF
B134: Conseils d'établissement | C134: Travaux en équipe pédagogique, relations avec les parents et suivi du PPS | E134: Animations pédagogiques et actions de formation continue | F134: Activités Pédagogiques Complémentaires APC | H134: TOTAL
B135: =E18 -> 0 | C135: =SUM(D35+H35+D52+H52+D67) -> 0 | E135: =SUM(F82) -> 0 | F135: =SUM(C105+F105+I105+C126+F126) -> 0 | H135: =SUM(B135:G135) -> 0
D138: ORS | E138: Heures programmées pour l'année scolaire en cours | F138: état
D139: =SUM(I2:I14) -> 0 | E139: =SUM(B135:F135) -> 0 | F139: =IF(D139<=E139,"ORS à jour","Revoir ORS") -> ORS à jour
B141: =B3 -> 0 | E141: =D3 -> 0

Sheet Enseignant 16
H2: 1
A3: Prénom | B3: =Récapitulatif!B18 -> 0 | C3: Nom | D3: =Récapitulatif!C18 -> 0 | G3: Enseignant | H3: 0.8
A4: de l'enseignant | H4: 0.75
H5: 0.5
H6: 0.33
A7: Ecole | B7: =Récapitulatif!C1 -> 0 | C7: Commune : | D7: =Récapitulatif!E1 -> 0 | H7: 0.25
G8: Chef d'établissement 1 à 2 classes
A9: Circonscription | C9: =Récapitulatif!H1 -> Segré | G9: Chef d'établissement 3 à 4 classes
G10: Chef d'établissement 5 et +
B11: 1. CONSEILS D'ETABLISSEMENT (6 heures)
C14: Date | D14: Horaires | E14: Durée
G16: =Récapitulatif!D23 -> 2025-2026
C18: TOTAL | E18: =SUM(E15:E17) -> 0
B20: 2. TRAVAUX EN EQUIPES PÉDAGOGIQUES, RELATIONS AVEC LES PARENTS ET SUIVI DES PPS (48h)
B22: Période 1 | F22: Période 2
B24: Date | C24: Objet | D24: Durée | F24: Date | G24: Objet | H24: Durée
B35: TOTAL | D35: =SUM(D25:D34) -> 0 | F35: TOTAL | H35: =SUM(H25:H34) -> 0
B39: Période 3 | F39: Période 4
B41: Date | C41: Objet | D41: Durée | F41: Date | G41: Objet | H41: Durée
B52: TOTAL | D52: =SUM(D42:D51) -> 0 | F52: TOTAL | H52: =SUM(H42:H51) -> 0
B54: Période 5
B56: Date | C56: Objet | D56: Durée
B67: TOTAL | D67: =SUM(D57:D66) -> 0
B70: 3. ANIMATIONS PÉDAGOGIQUES ET ACTIONS DE FORMATION CONTINUE (18h)
C72: Intitulé | E72: Date | F72: Durée
C82: TOTAL | F82: =SUM(F73:F81) -> 0
B88: 4. ACTIVITES PEDAGOGIQUES COMPLEMENTAIRES APC (36h)
B90: Période 1 | E90: Période 2 | H90: Période 3
B92: Date | C92: Durée | E92: Date | F92: Durée | H92: Date | I92: Durée
B105: TOTAL | C105: =SUM(C93:C104) -> 0 | E105: TOTAL | F105: =SUM(F93:F104) -> 0 | H105: TOTAL | I105: =SUM(I93:I104) -> 0
B111: Période 4 | E111: Période 5
B113: Date | C113: Durée | E113: Date | F113: Durée
B126: TOTAL | C126: =SUM(C114:C125) -> 0 | E126: TOTAL | F126: =SUM(F114:F125) -> 0
B132: 6. RÉCAPITULATIF
B134: Conseils d'établissement | C134: Travaux en équipe pédagogique, relations avec les parents et suivi du PPS | E134: Animations pédagogiques et actions de formation continue | F134: Activités Pédagogiques Complémentaires APC | H134: TOTAL
B135: =E18 -> 0 | C135: =SUM(D35+H35+D52+H52+D67) -> 0 | E135: =SUM(F82) -> 0 | F135: =SUM(C105+F105+I105+C126+F126) -> 0 | H135: =SUM(B135:G135) -> 0
D138: ORS | E138: Heures programmées pour l'année scolaire en cours | F138: état
D139: =SUM(I2:I14) -> 0 | E139: =SUM(B135:F135) -> 0 | F139: =IF(D139<=E139,"ORS à jour","Revoir ORS") -> ORS à jour
B141: =B3 -> 0 | E141: =D3 -> 0

Sheet Enseignant 17
H2: 1
A3: Prénom | B3: =Récapitulatif!B19 -> 0 | C3: Nom | D3: =Récapitulatif!C19 -> 0 | G3: Enseignant | H3: 0.8
A4: de l'enseignant | H4: 0.75
H5: 0.5
H6: 0.33
A7: Ecole | B7: =Récapitulatif!C1 -> 0 | C7: Commune : | D7: =Récapitulatif!E1 -> 0 | H7: 0.25
G8: Chef d'établissement 1 à 2 classes
A9: Circonscription | C9: =Récapitulatif!H1 -> Segré | G9: Chef d'établissement 3 à 4 classes
G10: Chef d'établissement 5 et +
B11: 1. CONSEILS D'ETABLISSEMENT (6 heures)
C14: Date | D14: Horaires | E14: Durée
G16: =Récapitulatif!D23 -> 2025-2026
C18: TOTAL | E18: =SUM(E15:E17) -> 0
B20: 2. TRAVAUX EN EQUIPES PÉDAGOGIQUES, RELATIONS AVEC LES PARENTS ET SUIVI DES PPS (48h)
B22: Période 1 | F22: Période 2
B24: Date | C24: Objet | D24: Durée | F24: Date | G24: Objet | H24: Durée
B35: TOTAL | D35: =SUM(D25:D34) -> 0 | F35: TOTAL | H35: =SUM(H25:H34) -> 0
B39: Période 3 | F39: Période 4
B41: Date | C41: Objet | D41: Durée | F41: Date | G41: Objet | H41: Durée
B52: TOTAL | D52: =SUM(D42:D51) -> 0 | F52: TOTAL | H52: =SUM(H42:H51) -> 0
B54: Période 5
B56: Date | C56: Objet | D56: Durée
B67: TOTAL | D67: =SUM(D57:D66) -> 0
B70: 3. ANIMATIONS PÉDAGOGIQUES ET ACTIONS DE FORMATION CONTINUE (18h)
C72: Intitulé | E72: Date | F72: Durée
C82: TOTAL | F82: =SUM(F73:F81) -> 0
B88: 4. ACTIVITES PEDAGOGIQUES COMPLEMENTAIRES APC (36h)
B90: Période 1 | E90: Période 2 | H90: Période 3
B92: Date | C92: Durée | E92: Date | F92: Durée | H92: Date | I92: Durée
B105: TOTAL | C105: =SUM(C93:C104) -> 0 | E105: TOTAL | F105: =SUM(F93:F104) -> 0 | H105: TOTAL | I105: =SUM(I93:I104) -> 0
B111: Période 4 | E111: Période 5
B113: Date | C113: Durée | E113: Date | F113: Durée
B126: TOTAL | C126: =SUM(C114:C125) -> 0 | E126: TOTAL | F126: =SUM(F114:F125) -> 0
B132: 6. RÉCAPITULATIF
B134: Conseils d'établissement | C134: Travaux en équipe pédagogique, relations avec les parents et suivi du PPS | E134: Animations pédagogiques et actions de formation continue | F134: Activités Pédagogiques Complémentaires APC | H134: TOTAL
B135: =E18 -> 0 | C135: =SUM(D35+H35+D52+H52+D67) -> 0 | E135: =SUM(F82) -> 0 | F135: =SUM(C105+F105+I105+C126+F126) -> 0 | H135: =SUM(B135:G135) -> 0
D138: ORS | E138: Heures programmées pour l'année scolaire en cours | F138: état
D139: =SUM(I2:I14) -> 0 | E139: =SUM(B135:F135) -> 0 | F139: =IF(D139<=E139,"ORS à jour","Revoir ORS") -> ORS à jour
B141: =B3 -> 0 | E141: =D3 -> 0

Sheet Enseignant 18
H2: 1
A3: Prénom | B3: =Récapitulatif!B20 -> 0 | C3: Nom | D3: =Récapitulatif!C20 -> 0 | G3: Enseignant | H3: 0.8
A4: de l'enseignant | H4: 0.75
H5: 0.5
H6: 0.33
A7: Ecole | B7: =Récapitulatif!C1 -> 0 | C7: Commune : | D7: =Récapitulatif!E1 -> 0 | H7: 0.25
G8: Chef d'établissement 1 à 2 classes
A9: Circonscription | C9: =Récapitulatif!H1 -> Segré | G9: Chef d'établissement 3 à 4 classes
G10: Chef d'établissement 5 et +
B11: 1. CONSEILS D'ETABLISSEMENT (6 heures)
C14: Date | D14: Horaires | E14: Durée
G16: =Récapitulatif!D23 -> 2025-2026
C18: TOTAL | E18: =SUM(E15:E17) -> 0
B20: 2. TRAVAUX EN EQUIPES PÉDAGOGIQUES, RELATIONS AVEC LES PARENTS ET SUIVI DES PPS (48h)
B22: Période 1 | F22: Période 2
B24: Date | C24: Objet | D24: Durée | F24: Date | G24: Objet | H24: Durée
B35: TOTAL | D35: =SUM(D25:D34) -> 0 | F35: TOTAL | H35: =SUM(H25:H34) -> 0
B39: Période 3 | F39: Période 4
B41: Date | C41: Objet | D41: Durée | F41: Date | G41: Objet | H41: Durée
B52: TOTAL | D52: =SUM(D42:D51) -> 0 | F52: TOTAL | H52: =SUM(H42:H51) -> 0
B54: Période 5
B56: Date | C56: Objet | D56: Durée
B67: TOTAL | D67: =SUM(D57:D66) -> 0
B70: 3. ANIMATIONS PÉDAGOGIQUES ET ACTIONS DE FORMATION CONTINUE (18h)
C72: Intitulé | E72: Date | F72: Durée
C82: TOTAL | F82: =SUM(F73:F81) -> 0
B88: 4. ACTIVITES PEDAGOGIQUES COMPLEMENTAIRES APC (36h)
B90: Période 1 | E90: Période 2 | H90: Période 3
B92: Date | C92: Durée | E92: Date | F92: Durée | H92: Date | I92: Durée
B105: TOTAL | C105: =SUM(C93:C104) -> 0 | E105: TOTAL | F105: =SUM(F93:F104) -> 0 | H105: TOTAL | I105: =SUM(I93:I104) -> 0
B111: Période 4 | E111: Période 5
B113: Date | C113: Durée | E113: Date | F113: Durée
B126: TOTAL | C126: =SUM(C114:C125) -> 0 | E126: TOTAL | F126: =SUM(F114:F125) -> 0
B132: 6. RÉCAPITULATIF
B134: Conseils d'établissement | C134: Travaux en équipe pédagogique, relations avec les parents et suivi du PPS | E134: Animations pédagogiques et actions de formation continue | F134: Activités Pédagogiques Complémentaires APC | H134: TOTAL
B135: =E18 -> 0 | C135: =SUM(D35+H35+D52+H52+D67) -> 0 | E135: =SUM(F82) -> 0 | F135: =SUM(C105+F105+I105+C126+F126) -> 0 | H135: =SUM(B135:G135) -> 0
D138: ORS | E138: Heures programmées pour l'année scolaire en cours | F138: état
D139: =SUM(I2:I14) -> 0 | E139: =SUM(B135:F135) -> 0 | F139: =IF(D139<=E139,"ORS à jour","Revoir ORS") -> ORS à jour
B141: =B3 -> 0 | E141: =D3 -> 0
